BEGIN:VCALENDAR
VERSION:2.0
PRODID:icalendar-ruby
CALSCALE:GREGORIAN
METHOD:PUBLISH
BEGIN:VEVENT
DTSTAMP:20260421T203124Z
UID:11-596345@newlifechurchofmohavevalley.com
DTSTART:20260918T013000Z
DTEND:20260918T023000Z
CLASS:PUBLIC
CREATED:20260421T124623
DESCRIPTION:Celebrate Recovery
LAST-MODIFIED:20260421T124623
LOCATION:
SUMMARY:Celebrate Recovery
URL;VALUE=URI:https://newlifechurchofmohavevalley.com/events/celebrate-reco
 very/2026-09-17
ATTACH;FILENAME=CR2.jpg;FMTTYPE=image/jpeg:https://dq5pwpg1q8ru0.cloudfront
 .net/2024/11/16/18/12/10/6c333a20-4ba7-457b-af33-d7e84e7e84ce/CR2.jpg
END:VEVENT
END:VCALENDAR
